BEGIN:VCALENDAR
VERSION:2.0
PRODID:-//https://www.fceschenbach.ch///NONSGML kigkonsult.se iCalcreator 2.10.15//
METHOD:PUBLISH
BEGIN:VEVENT
UID:20260420T105555CEST-4571sZvd9u@https://www.fceschenbach.ch/
DTSTAMP:20260420T085555Z
DESCRIPTION:Die 48. Generalversammlung des FC Eschenbach findet am Freitag 
 den 11. September 2026 um 19:00 Uhr im Clubhaus Weiherhus statt. Die persö
 nlichen Einladungen an die Mitglieder werden zwei Wochen vor der Generalve
 rsammlung per Mail zugestellt. https://www.fceschenbach.ch/verein/termine/
 event/299-48-gv-fc-eschenbach.html
DTSTART:20260911T170000Z
DTEND:20260911T190000Z
LOCATION:Weiherhaus\, 6274 Eschenbach\, Schweiz (Weiherhaus\, 6274 Eschenba
 ch\, Schweiz)
SUMMARY:48. GV FC Eschenbach
URL:https://www.fceschenbach.ch/verein/termine/event/299-48-gv-fc-eschenbac
 h.html
END:VEVENT
END:VCALENDAR
