BEGIN:VCALENDAR
VERSION:2.0
PRODID:-//https://www.fceschenbach.ch///NONSGML kigkonsult.se iCalcreator 2.10.15//
METHOD:PUBLISH
BEGIN:VEVENT
UID:20260420T122232CEST-8640u1v9tu@https://www.fceschenbach.ch/
DTSTAMP:20260420T102232Z
DESCRIPTION: https://www.fceschenbach.ch/verein/termine/event/239-gunzwil-e
 schenbach.html
DTSTART:20260407T180000Z
DTEND:20260407T200000Z
LOCATION:Sportplatz Gunzwil ()
SUMMARY:Gunzwil - Eschenbach
URL:https://www.fceschenbach.ch/verein/termine/event/239-gunzwil-eschenbach
 .html
END:VEVENT
END:VCALENDAR
