BEGIN:VCALENDAR
VERSION:2.0
PRODID:-//https://www.fceschenbach.ch///NONSGML kigkonsult.se iCalcreator 2.10.15//
METHOD:PUBLISH
BEGIN:VEVENT
UID:20260421T034443CEST-18604aucvv@https://www.fceschenbach.ch/
DTSTAMP:20260421T014443Z
DESCRIPTION: https://www.fceschenbach.ch/verein/termine/event/215-eschenbac
 h-schattdorf.html
DTSTART:20260321T170000Z
DTEND:20260321T190000Z
LOCATION:Weiherhus Eschenbach ()
SUMMARY:Eschenbach - Schattdorf
URL:https://www.fceschenbach.ch/verein/termine/event/215-eschenbach-schattd
 orf.html
END:VEVENT
END:VCALENDAR
