BEGIN:VCALENDAR
VERSION:2.0
PRODID:-//https://www.fceschenbach.ch///NONSGML kigkonsult.se iCalcreator 2.10.15//
METHOD:PUBLISH
BEGIN:VEVENT
UID:20260420T162113CEST-72888UTedh@https://www.fceschenbach.ch/
DTSTAMP:20260420T142113Z
DESCRIPTION: https://www.fceschenbach.ch/verein/termine/event/171-eschenbac
 h-sarnen.html
DTSTART:20260402T180000Z
DTEND:20260402T200000Z
LOCATION:Weiherhaus\, 6274 Eschenbach\, Schweiz (Weiherhaus\, 6274 Eschenba
 ch\, Schweiz)
SUMMARY:Eschenbach - Sarnen
URL:https://www.fceschenbach.ch/verein/termine/event/171-eschenbach-sarnen.
 html
END:VEVENT
END:VCALENDAR
