BEGIN:VCALENDAR
VERSION:2.0
PRODID:-//https://www.fceschenbach.ch///NONSGML kigkonsult.se iCalcreator 2.10.15//
METHOD:PUBLISH
BEGIN:VEVENT
UID:20260419T143656CEST-32563x8nMj@https://www.fceschenbach.ch/
DTSTAMP:20260419T123656Z
DESCRIPTION:Reise am 18. April 2018 gemeinsam im Car mit unserer 1. Mannsch
 aft zum Auswärtsspiel im Tessin gegen den AS Novazzano. Im Preis von 45 Fr
 anken ist die Carfahrt\, ein gemeinsames Nachtessen in Ambri\, der Eintrit
 t zum Spiel und Sandwiches auf der Rückfahrt inklusive. Besammlung ist um 
 15:30 Uhr beim Bahnhof in Eschenbach\, anschliessend geht es gemeinsam in 
 die Sonnenstube der Schweiz. Anmelden kannst du dich bis am Montag den 16.
  April 2018 bei Urs Meyer.\n&nbsp\;&nbsp\; https://www.fceschenbach.ch/ver
 ein/termine/event/146-carfahrt-nach-morbio.html
DTSTART:20180418T130000Z
DTEND:20180418T215900Z
LOCATION:Campo comunale Morbio\, Morbio Inferiore (Via Campo Sportivo\, 683
 4 Morbio Inferiore\, Schweiz)
SUMMARY:Carfahrt nach Morbio
URL:https://www.fceschenbach.ch/verein/termine/event/146-carfahrt-nach-morb
 io.html
END:VEVENT
END:VCALENDAR
