BEGIN:VCALENDAR
VERSION:2.0
PRODID:-//https://www.fceschenbach.ch///NONSGML kigkonsult.se iCalcreator 2.10.15//
METHOD:PUBLISH
BEGIN:VEVENT
UID:20260420T122826CEST-74814mEBuP@https://www.fceschenbach.ch/
DTSTAMP:20260420T102826Z
DESCRIPTION: https://www.fceschenbach.ch/component/rseventspro/event/85-esc
 henbach-hochdorf.html?Itemid=2
DTSTART:20260324T190000Z
DTEND:20260324T210000Z
LOCATION:Weiherhus Eschenbach ()
SUMMARY:Eschenbach - Hochdorf
URL:https://www.fceschenbach.ch/component/rseventspro/event/85-eschenbach-h
 ochdorf.html?Itemid=2
END:VEVENT
END:VCALENDAR
