BEGIN:VCALENDAR
VERSION:2.0
PRODID:-//https://www.fceschenbach.ch///NONSGML kigkonsult.se iCalcreator 2.10.15//
METHOD:PUBLISH
BEGIN:VEVENT
UID:20260420T135432CEST-7342kCI1Il@https://www.fceschenbach.ch/
DTSTAMP:20260420T115432Z
DESCRIPTION: https://www.fceschenbach.ch/component/rseventspro/event/61-rot
 henburg-eschenbach.html
DTSTART:20260425T160000Z
DTEND:20260425T180000Z
LOCATION:Chärnsmatt Raiffeisen Arena Rothenburg (Chärnsmatt 5\, 6023 Rothen
 burg)
SUMMARY:Rothenburg - Eschenbach
URL:https://www.fceschenbach.ch/component/rseventspro/event/61-rothenburg-e
 schenbach.html
END:VEVENT
END:VCALENDAR
