BEGIN:VCALENDAR
VERSION:2.0
PRODID:-//https://www.fceschenbach.ch///NONSGML kigkonsult.se iCalcreator 2.10.15//
METHOD:PUBLISH
BEGIN:VEVENT
UID:20260420T154941CEST-3767udhHOS@https://www.fceschenbach.ch/
DTSTAMP:20260420T134941Z
DESCRIPTION:PROGRAMM\n\n\n\n\nSamstag\, 28. Juni 202514:00 Uhr - 23:00 UhrP
 lauschturnier Eschenbach&nbsp\; &nbsp\; &nbsp\; &nbsp\;&nbsp\;- Fussballbe
 izli mit Grill&nbsp\;&nbsp\;&nbsp\;&nbsp\;&nbsp\;&nbsp\;&nbsp\;&nbsp\;&nbs
 p\;- 11er Bar mit Musik\n\n\nSonntag\, 29. Juni 202508:00 Uhr - 18:00 UhrS
 chülerturnier Eschenbach- Fussballbeizli mit Grill\n\n\n\n\nORTSportplatz 
 Weiherhaus\, EschenbachDeine Fragen zum Turnier schickst du bitte per E-Ma
 il an turnier@fceschenbach.ch&nbsp\;oder an die Mobilenummer 079 575 57 06
  (Rolf Stocker).&gt\; Weitere Informationen zum Eschenbacher Fussballplaus
 ch 2025 findest du auf unserer TurnierseiteWir freuen uns auf viele engagi
 erte Teams\, unfallfreie Spiele und unvergessliche Erlebnisse!Die Senioren
  des FC Eschenbach https://www.fceschenbach.ch/component/rseventspro/event
 /285-eschenbacher-fussballplausch-2025.html
DTSTART:20250628T120000Z
DTEND:20250629T160000Z
LOCATION:Weiherhaus\, 6274 Eschenbach\, Schweiz (Weiherhaus\, 6274 Eschenba
 ch\, Schweiz)
SUMMARY:Eschenbacher Fussballplausch 2025
URL:https://www.fceschenbach.ch/component/rseventspro/event/285-eschenbache
 r-fussballplausch-2025.html
END:VEVENT
END:VCALENDAR
