BEGIN:VCALENDAR
VERSION:2.0
PRODID:-//https://www.fceschenbach.ch///NONSGML kigkonsult.se iCalcreator 2.10.15//
METHOD:PUBLISH
BEGIN:VEVENT
UID:20260420T141612CEST-0839NLfvo7@https://www.fceschenbach.ch/
DTSTAMP:20260420T121612Z
DESCRIPTION:S’ Drüü macht FäschtWie auch immer die sportlichen Entscheidung
 en in der 4. Liga fallen wird. Unser Drüü lädt zum grossen Saisonabschluss
  auf dem Weiherhaus ein. Bei Gemütlichkeit und Entspannung kann man auf di
 e Saison zurück blicken. Im Clubhaus gibt es einen Barbetrieb mit Live-Übe
 rtragung des Champions League Final.\n&nbsp\;\n16:30 Uhr Start des Festbet
 rieb auf dem Weiherhus18:30 Uhr Beginn der Verpflegung Nachtessen21:00 Uhr
 &nbsp\;Champions League Final auf Leinwand\nDas letzte Meisterschaftsspiel
  unseres Drüü in der 4. Liga Saison 2023/24:Montag\, 3. Juni 2024 - 20:00 
 UhrFC Eschenbach&nbsp\;III - FC Luzern https://www.fceschenbach.ch/compone
 nt/rseventspro/event/284-saisonabschluss-drüü.html
DTSTART:20240601T143000Z
DTEND:20240601T213000Z
LOCATION:Weiherhus Eschenbach ()
SUMMARY:Saisonabschluss DRÜÜ
URL:https://www.fceschenbach.ch/component/rseventspro/event/284-saisonabsch
 luss-drüü.html
END:VEVENT
END:VCALENDAR
