BEGIN:VCALENDAR
VERSION:2.0
PRODID:-//https://www.fceschenbach.ch///NONSGML kigkonsult.se iCalcreator 2.10.15//
METHOD:PUBLISH
BEGIN:VEVENT
UID:20260420T154813CEST-2203vPVzZU@https://www.fceschenbach.ch/
DTSTAMP:20260420T134813Z
DESCRIPTION:http://www.al-la.ch/de/desktopdefault.aspx/tabid-504/ https://w
 ww.fceschenbach.ch/component/rseventspro/event/28-cup-3-runde-fce-sv-mutte
 nz.html
DTSTART:20150612T181500Z
DTEND:20150612T200000Z
LOCATION:Weiherhaus\, 6274 Eschenbach\, Schweiz (Weiherhaus\, 6274 Eschenba
 ch\, Schweiz)
SUMMARY:Cup 3. Runde FCE-SV Muttenz
URL:https://www.fceschenbach.ch/component/rseventspro/event/28-cup-3-runde-
 fce-sv-muttenz.html
END:VEVENT
END:VCALENDAR
