BEGIN:VCALENDAR
VERSION:2.0
PRODID:-//https://www.fceschenbach.ch///NONSGML kigkonsult.se iCalcreator 2.10.15//
METHOD:PUBLISH
BEGIN:VEVENT
UID:20260420T135846CEST-2662vM1aIm@https://www.fceschenbach.ch/
DTSTAMP:20260420T115846Z
DESCRIPTION: https://www.fceschenbach.ch/component/rseventspro/event/274-es
 chenbach-gunzwil.html
DTSTART:20250826T180000Z
DTEND:20250826T200000Z
LOCATION:Weiherhus Eschenbach ()
SUMMARY:Eschenbach - Gunzwil
URL:https://www.fceschenbach.ch/component/rseventspro/event/274-eschenbach-
 gunzwil.html
END:VEVENT
END:VCALENDAR
