BEGIN:VCALENDAR
VERSION:2.0
PRODID:-//https://www.fceschenbach.ch///NONSGML kigkonsult.se iCalcreator 2.10.15//
METHOD:PUBLISH
BEGIN:VEVENT
UID:20260420T154028CEST-2531hXueDn@https://www.fceschenbach.ch/
DTSTAMP:20260420T134028Z
DESCRIPTION:Der Fussballclub führt mit seinen Mitgliedern eine Altpapiersam
 mlung durch.Diese findet jeweils morgens ab 8:00 Uhr auf dem Gemeindegebie
 t Eschenbach statt.Der Reinerlös aus der Sammlung kommt dem gesamten Verei
 n zugute.Bitte stellen Sie ihr Altpapier abholbereit an den Strassenrand.P
 apiersammlung an folgenden Tagen:- Samstag\, 7. März 2026- Samstag\, 27. J
 uni 2026- Samstag\, 24. Oktober 2026Ihr Kontakt beim FC Eschenbach für die
  Altpapiersammlung:Ivo Ulrich (Vizepräsident) /&nbsp\;vp@fceschenbach.ch&n
 bsp\;/ 079 206 45 96 https://www.fceschenbach.ch/component/rseventspro/eve
 nt/258-papiersammlung-eschenbach.html
DTSTART:20260627T060000Z
DTEND:20260627T100000Z
LOCATION:Eschenbach (Eschenbach\, Schweiz)
SUMMARY:Papiersammlung Eschenbach
URL:https://www.fceschenbach.ch/component/rseventspro/event/258-papiersamml
 ung-eschenbach.html
END:VEVENT
END:VCALENDAR
