BEGIN:VCALENDAR
VERSION:2.0
PRODID:-//https://www.fceschenbach.ch///NONSGML kigkonsult.se iCalcreator 2.10.15//
METHOD:PUBLISH
BEGIN:VEVENT
UID:20260420T135406CEST-6899RHOKUa@https://www.fceschenbach.ch/
DTSTAMP:20260420T115406Z
DESCRIPTION: https://www.fceschenbach.ch/component/rseventspro/event/233-es
 chenbach-sc-og.html
DTSTART:20260603T181500Z
DTEND:20260603T201500Z
LOCATION:Weiherhus Eschenbach ()
SUMMARY:Eschenbach - SC OG
URL:https://www.fceschenbach.ch/component/rseventspro/event/233-eschenbach-
 sc-og.html
END:VEVENT
END:VCALENDAR
