BEGIN:VCALENDAR
VERSION:2.0
PRODID:-//https://www.fceschenbach.ch///NONSGML kigkonsult.se iCalcreator 2.10.15//
METHOD:PUBLISH
BEGIN:VEVENT
UID:20260420T143522CEST-2208MUFOaG@https://www.fceschenbach.ch/
DTSTAMP:20260420T123522Z
DESCRIPTION: https://www.fceschenbach.ch/component/rseventspro/event/219-ki
 ckers-eschenbach.html
DTSTART:20260411T160000Z
DTEND:20260411T180000Z
LOCATION:Sportplatz Tribschen\, Luzern - 51 Hauptspielfeld ()
SUMMARY:Kickers - Eschenbach
URL:https://www.fceschenbach.ch/component/rseventspro/event/219-kickers-esc
 henbach.html
END:VEVENT
END:VCALENDAR
