BEGIN:VCALENDAR
VERSION:2.0
PRODID:-//https://www.fceschenbach.ch///NONSGML kigkonsult.se iCalcreator 2.10.15//
METHOD:PUBLISH
BEGIN:VEVENT
UID:20260420T141843CEST-6936UJ3dwZ@https://www.fceschenbach.ch/
DTSTAMP:20260420T121843Z
DESCRIPTION:&nbsp\; https://www.fceschenbach.ch/component/rseventspro/event
 /21-trainingsspiel-fcl-u21-fce.html?Itemid=2
DTSTART:20160127T190000Z
DTEND:20160127T220000Z
LOCATION:Allmend\, Luzern\, Schweiz ()
SUMMARY:Trainingsspiel: FCL U21 - FCE
URL:https://www.fceschenbach.ch/component/rseventspro/event/21-trainingsspi
 el-fcl-u21-fce.html?Itemid=2
END:VEVENT
END:VCALENDAR
