BEGIN:VCALENDAR
VERSION:2.0
PRODID:-//https://www.fceschenbach.ch///NONSGML kigkonsult.se iCalcreator 2.10.15//
METHOD:PUBLISH
BEGIN:VEVENT
UID:20260420T122816CEST-4495JCVrFu@https://www.fceschenbach.ch/
DTSTAMP:20260420T102816Z
DESCRIPTION: https://www.fceschenbach.ch/component/rseventspro/event/208-sc
 -og-eschenbach.html?Itemid=2
DTSTART:20250930T181500Z
DTEND:20250930T201500Z
LOCATION:Sportplatz Wartegg (Warteggstrasse 38\, 6005 Luzern)
SUMMARY:SC OG - Eschenbach
URL:https://www.fceschenbach.ch/component/rseventspro/event/208-sc-og-esche
 nbach.html?Itemid=2
END:VEVENT
END:VCALENDAR
