BEGIN:VCALENDAR
VERSION:2.0
PRODID:-//https://www.fceschenbach.ch///NONSGML kigkonsult.se iCalcreator 2.10.15//
METHOD:PUBLISH
BEGIN:VEVENT
UID:20260420T122230CEST-52197wWH8j@https://www.fceschenbach.ch/
DTSTAMP:20260420T102230Z
DESCRIPTION: https://www.fceschenbach.ch/component/rseventspro/event/192-pe
 rlen-buchrain-eschenbach.html?Itemid=2
DTSTART:20260516T150000Z
DTEND:20260516T170000Z
LOCATION:Hinterleisibach\, Buchrain\, Schweiz (Hinterleisibach\, 6035 Buchr
 ain\, Schweiz)
SUMMARY:Perlen Buchrain - Eschenbach
URL:https://www.fceschenbach.ch/component/rseventspro/event/192-perlen-buch
 rain-eschenbach.html?Itemid=2
END:VEVENT
END:VCALENDAR
