BEGIN:VCALENDAR
VERSION:2.0
PRODID:-//https://www.fceschenbach.ch///NONSGML kigkonsult.se iCalcreator 2.10.15//
METHOD:PUBLISH
BEGIN:VEVENT
UID:20260420T122237CEST-8078PtUi0u@https://www.fceschenbach.ch/
DTSTAMP:20260420T102237Z
DESCRIPTION: https://www.fceschenbach.ch/component/rseventspro/event/189-br
 unnen-eschenbach.html?Itemid=2
DTSTART:20260530T160000Z
DTEND:20260530T180000Z
LOCATION:Schoeller-Meyer Fussballplatz\, Brunnen - 1 ()
SUMMARY:Brunnen - Eschenbach
URL:https://www.fceschenbach.ch/component/rseventspro/event/189-brunnen-esc
 henbach.html?Itemid=2
END:VEVENT
END:VCALENDAR
