BEGIN:VCALENDAR
VERSION:2.0
PRODID:-//https://www.fceschenbach.ch///NONSGML kigkonsult.se iCalcreator 2.10.15//
METHOD:PUBLISH
BEGIN:VEVENT
UID:20260420T122826CEST-7741FA1haw@https://www.fceschenbach.ch/
DTSTAMP:20260420T102826Z
DESCRIPTION: https://www.fceschenbach.ch/component/rseventspro/event/188-sa
 rnen-eschenbach.html?Itemid=2
DTSTART:20250830T150000Z
DTEND:20250830T170000Z
LOCATION:Sportplatz Seefeld (Seestrasse 4\, 6060 Sarnen)
SUMMARY:Sarnen - Eschenbach
URL:https://www.fceschenbach.ch/component/rseventspro/event/188-sarnen-esch
 enbach.html?Itemid=2
END:VEVENT
END:VCALENDAR
