BEGIN:VCALENDAR
VERSION:2.0
PRODID:-//https://www.fceschenbach.ch///NONSGML kigkonsult.se iCalcreator 2.10.15//
METHOD:PUBLISH
BEGIN:VEVENT
UID:20260420T135727CEST-97964IGG8g@https://www.fceschenbach.ch/
DTSTAMP:20260420T115727Z
DESCRIPTION: https://www.fceschenbach.ch/component/rseventspro/event/174-wi
 llisau-eschenbach.html
DTSTART:20250913T150000Z
DTEND:20250913T170000Z
LOCATION:Sportanlage Schlossfeld\, Willisau (Schlossfeldstrasse 4\, 6130 Wi
 llisau\, Schweiz)
SUMMARY:Willisau - Eschenbach
URL:https://www.fceschenbach.ch/component/rseventspro/event/174-willisau-es
 chenbach.html
END:VEVENT
END:VCALENDAR
