BEGIN:VCALENDAR
VERSION:2.0
PRODID:-//https://www.fceschenbach.ch///NONSGML kigkonsult.se iCalcreator 2.10.15//
METHOD:PUBLISH
BEGIN:VEVENT
UID:20260420T135407CEST-0217k7UoSa@https://www.fceschenbach.ch/
DTSTAMP:20260420T115407Z
DESCRIPTION: https://www.fceschenbach.ch/component/rseventspro/event/169-es
 chenbach-willisau.html
DTSTART:20260418T160000Z
DTEND:20260418T180000Z
LOCATION:Weiherhus Eschenbach ()
SUMMARY:Eschenbach - Willisau
URL:https://www.fceschenbach.ch/component/rseventspro/event/169-eschenbach-
 willisau.html
END:VEVENT
END:VCALENDAR
