BEGIN:VCALENDAR
VERSION:2.0
PRODID:-//https://www.fceschenbach.ch///NONSGML kigkonsult.se iCalcreator 2.10.15//
METHOD:PUBLISH
BEGIN:VEVENT
UID:20260420T135728CEST-0471oCEZNv@https://www.fceschenbach.ch/
DTSTAMP:20260420T115728Z
DESCRIPTION: https://www.fceschenbach.ch/component/rseventspro/event/157-es
 chenbach-kickers.html
DTSTART:20250916T180000Z
DTEND:20250916T200000Z
LOCATION:Weiherhaus\, 6274 Eschenbach\, Schweiz (Weiherhaus\, 6274 Eschenba
 ch\, Schweiz)
SUMMARY:Eschenbach - Kickers
URL:https://www.fceschenbach.ch/component/rseventspro/event/157-eschenbach-
 kickers.html
END:VEVENT
END:VCALENDAR
