BEGIN:VCALENDAR
VERSION:2.0
PRODID:-//https://www.fceschenbach.ch///NONSGML kigkonsult.se iCalcreator 2.10.15//
METHOD:PUBLISH
BEGIN:VEVENT
UID:20260420T135846CEST-6652oPjour@https://www.fceschenbach.ch/
DTSTAMP:20260420T115846Z
DESCRIPTION: https://www.fceschenbach.ch/component/rseventspro/event/154-es
 chenbach-brunnen.html
DTSTART:20251018T160000Z
DTEND:20251018T180000Z
LOCATION:Weiherhaus\, 6274 Eschenbach\, Schweiz (Weiherhaus\, 6274 Eschenba
 ch\, Schweiz)
SUMMARY:Eschenbach - Brunnen
URL:https://www.fceschenbach.ch/component/rseventspro/event/154-eschenbach-
 brunnen.html
END:VEVENT
END:VCALENDAR
