BEGIN:VCALENDAR
VERSION:2.0
PRODID:-//https://www.fceschenbach.ch///NONSGML kigkonsult.se iCalcreator 2.10.15//
METHOD:PUBLISH
BEGIN:VEVENT
UID:20260420T122828CEST-5906A65vLn@https://www.fceschenbach.ch/
DTSTAMP:20260420T102828Z
DESCRIPTION: https://www.fceschenbach.ch/component/rseventspro/event/135-ho
 chdorf-eschenbach.html?Itemid=2
DTSTART:20250808T180000Z
DTEND:20250808T200000Z
LOCATION:Sportplatz Arena Hochdorf ()
SUMMARY:Hochdorf - Eschenbach
URL:https://www.fceschenbach.ch/component/rseventspro/event/135-hochdorf-es
 chenbach.html?Itemid=2
END:VEVENT
END:VCALENDAR
