BEGIN:VCALENDAR
VERSION:2.0
PRODID:-//https://www.fceschenbach.ch///NONSGML kigkonsult.se iCalcreator 2.10.15//
METHOD:PUBLISH
BEGIN:VEVENT
UID:20260420T135846CEST-7376SM4PnF@https://www.fceschenbach.ch/
DTSTAMP:20260420T115846Z
DESCRIPTION: https://www.fceschenbach.ch/component/rseventspro/event/133-go
 ldau-eschenbach.html
DTSTART:20250927T160000Z
DTEND:20250927T180000Z
LOCATION:Sportplatz Tierpark (Steinerbergstrasse 56\, 6410 Goldau)
SUMMARY:Goldau - Eschenbach
URL:https://www.fceschenbach.ch/component/rseventspro/event/133-goldau-esch
 enbach.html
END:VEVENT
END:VCALENDAR
