BEGIN:VCALENDAR
VERSION:2.0
PRODID:-//https://www.fceschenbach.ch///NONSGML kigkonsult.se iCalcreator 2.10.15//
METHOD:PUBLISH
BEGIN:VEVENT
UID:20260420T122816CEST-6666zVKkhz@https://www.fceschenbach.ch/
DTSTAMP:20260420T102816Z
DESCRIPTION: https://www.fceschenbach.ch/component/rseventspro/event/132-es
 chenbach-perlen-buchrain.html?Itemid=2
DTSTART:20251011T160000Z
DTEND:20251011T180000Z
LOCATION:Weiherhus Eschenbach ()
SUMMARY:Eschenbach - Perlen Buchrain
URL:https://www.fceschenbach.ch/component/rseventspro/event/132-eschenbach-
 perlen-buchrain.html?Itemid=2
END:VEVENT
END:VCALENDAR
