BEGIN:VCALENDAR
VERSION:2.0
PRODID:-//https://www.fceschenbach.ch///NONSGML kigkonsult.se iCalcreator 2.10.15//
METHOD:PUBLISH
BEGIN:VEVENT
UID:20260420T135846CEST-5695CavuXt@https://www.fceschenbach.ch/
DTSTAMP:20260420T115846Z
DESCRIPTION: https://www.fceschenbach.ch/component/rseventspro/event/130-br
 unnen-eschenbach.html
DTSTART:20251028T190000Z
DTEND:20251028T210000Z
LOCATION:Schoeller-Meyer Fussballplatz\, Brunnen - 1 ()
SUMMARY:Brunnen - Eschenbach
URL:https://www.fceschenbach.ch/component/rseventspro/event/130-brunnen-esc
 henbach.html
END:VEVENT
END:VCALENDAR
