BEGIN:VCALENDAR
VERSION:2.0
PRODID:-//https://www.fceschenbach.ch///NONSGML kigkonsult.se iCalcreator 2.10.15//
METHOD:PUBLISH
BEGIN:VEVENT
UID:20260420T140704CEST-5331TIh0GG@https://www.fceschenbach.ch/
DTSTAMP:20260420T120704Z
DESCRIPTION: https://www.fceschenbach.ch/component/rseventspro/event/120-ib
 ach-eschenbach.html?Itemid=2
DTSTART:20230527T160000Z
DTEND:20230527T180000Z
LOCATION:Gerbihof\, Ibach\, Schweiz (Gerbihofstrasse\, 6438 Schwyz\, Schwei
 z)
SUMMARY:Ibach - Eschenbach
URL:https://www.fceschenbach.ch/component/rseventspro/event/120-ibach-esche
 nbach.html?Itemid=2
END:VEVENT
END:VCALENDAR
