BEGIN:VCALENDAR
VERSION:2.0
PRODID:-//https://www.fceschenbach.ch///NONSGML kigkonsult.se iCalcreator 2.10.15//
METHOD:PUBLISH
BEGIN:VEVENT
UID:20260420T122232CEST-6400vBMUwR@https://www.fceschenbach.ch/
DTSTAMP:20260420T102232Z
DESCRIPTION: https://www.fceschenbach.ch/component/rseventspro/event/115-ba
 ar-eschenbach.html?Itemid=2
DTSTART:20260613T160000Z
DTEND:20260613T180000Z
LOCATION:Baar\, Schweiz ()
SUMMARY:Baar - Eschenbach
URL:https://www.fceschenbach.ch/component/rseventspro/event/115-baar-eschen
 bach.html?Itemid=2
END:VEVENT
END:VCALENDAR
