BEGIN:VCALENDAR
VERSION:2.0
PRODID:-//https://www.fceschenbach.ch///NONSGML kigkonsult.se iCalcreator 2.10.15//
METHOD:PUBLISH
BEGIN:VEVENT
UID:20260420T122238CEST-7854KkIl8G@https://www.fceschenbach.ch/
DTSTAMP:20260420T102238Z
DESCRIPTION: https://www.fceschenbach.ch/component/rseventspro/event/112-es
 chenbach-goldau.html?Itemid=2
DTSTART:20260502T160000Z
DTEND:20260502T180000Z
LOCATION:Weiherhaus\, 6274 Eschenbach\, Schweiz (Weiherhaus\, 6274 Eschenba
 ch\, Schweiz)
SUMMARY:Eschenbach - Goldau
URL:https://www.fceschenbach.ch/component/rseventspro/event/112-eschenbach-
 goldau.html?Itemid=2
END:VEVENT
END:VCALENDAR
