BEGIN:VCALENDAR
VERSION:2.0
PRODID:-//https://www.fceschenbach.ch///NONSGML kigkonsult.se iCalcreator 2.10.15//
METHOD:PUBLISH
BEGIN:VEVENT
UID:20260420T141822CEST-7708nDrUOu@https://www.fceschenbach.ch/
DTSTAMP:20260420T121822Z
DESCRIPTION:Am Samstag den 10. August 2024 findet&nbsp\;auf dem Weiherhaus 
 die&nbsp\;Vorstellung der Spieler und des Trainerteam unserer 1. Mannschaf
 t statt. Die Sportkommission gibt Einblicke in ihre Tätigkeit und in die l
 aufenden Vorbereitungen auf die neue Spielzeit. Anschliessend an die Präse
 ntation findet auf dem Hauptfeld das Trainingsspiel gegen den FC Adligensw
 il statt.Programm16:30 Uhr&nbsp\; Vorstellung Spieler und Trainerteam der 
 1. Mannschaft17:00 Uhr&nbsp\; Wort des Präsidenten und Vorstellung Sportko
 mmission17:30 Uhr&nbsp\; Offene Gesprächsrunde mit Präsident und&nbsp\;Spo
 rtkommission18:00 Uhr&nbsp\; Trainingsspiel FC Eschenbach - FC Adligenswil
 Alle Vereinsmitglieder\, Sponsoren und Gönner\, die gesamte Eschenbacher B
 evölkerung sowie Freunde von Gelbschwarz sind herzlich eingeladen. Abgerun
 det wird der Anlass mit einem Apero gesponsert von unserem Donatorenclub G
 oldenCircle sowie gemütlichem Beisammensein mit spannenden Gesprächen. htt
 ps://www.fceschenbach.ch/component/rseventspro/event/107-mannschaftsvorste
 llung-fanionteam.html?Itemid=2
DTSTART:20240810T143000Z
DTEND:20240810T200000Z
LOCATION:Weiherhaus\, 6274 Eschenbach\, Schweiz (Weiherhaus\, 6274 Eschenba
 ch\, Schweiz)
SUMMARY:Mannschaftsvorstellung Fanionteam
URL:https://www.fceschenbach.ch/component/rseventspro/event/107-mannschafts
 vorstellung-fanionteam.html?Itemid=2
END:VEVENT
END:VCALENDAR
